2.438400
0
0
-2.438400
349337.083372
5332633.827403
