2.438400
0.000000
0.000000
-2.438400
283951.899529
5334779.903926
