2.438400
0.000000
0.000000
-2.438400
331784.904257
5374939.064551
