2.438400
0.000000
0.000000
-2.438400
712054.848330
5335176.738333
