2.438400
0.000000
0.000000
-2.438400
580950.879586
5414935.876930
