2.438400
0.000000
0.000000
-2.438400
535562.396872
5358759.085404
