2.438400
0.000000
0.000000
-2.438400
553501.393568
5372839.879682
