2.438400
0.000000
0.000000
-2.438400
553251.777102
5400637.231412
