2.438400000000
0.000000000000
0.000000000000
-2.438400000000
481242.682846835760
5340961.818736844700
