2.438400
0.000000
0.000000
-2.438400
397194.994422
4775995.232847
