2.438400
0.000000
0.000000
-2.438400
377674.273694
4831875.190235
