2.438400
0.000000
0.000000
-2.438400
397992.404295
4845427.318880
