2.43840000
0.00000000
0.00000000
-2.43840000
649553.18825099
4874383.78486144
