2.438400000000
0.000000000000
0.000000000000
-2.438400000000
338687.268242820573
4888428.465518879700
