2.438400000000
0.000000000000
0.000000000000
-2.438400000000
370414.870474758266
4971071.534118853500
