2.438400000000
0.000000000000
0.000000000000
-2.438400000000
688680.997196352690
4903410.663941556600
