2.43840000
0.00000000
0.00000000
-2.43840000
469740.45843650
5011338.26901808
