2.43840000
0.00000000
0.00000000
-2.43840000
390838.48444098
4998313.67662498
