2.43840000
0.00000000
0.00000000
-2.43840000
391071.21794641
5012202.24232722
