2.43840000
0.00000000
0.00000000
-2.43840000
313634.46363174
5055695.34712173
