2.43840000
0.00000000
0.00000000
-2.43840000
294094.08019516
5056307.13177084
