2.43840000
0.00000000
0.00000000
-2.43840000
333538.91323361
5069033.02070431
