2.438400
0
0
-2.438400
625656.405270
5054386.607577
