2.43840000
0.00000000
0.00000000
-2.43840000
596021.17650311
5095526.10400375
