2.438400
0
0
-2.438400
518399.867535
5011291.344581
