2.43840000
0.00000000
0.00000000
-2.43840000
557959.44139495
5025535.79444775
