2.43840000
0.00000000
0.00000000
-2.43840000
518726.31413021
5053001.22012494
