2.43840000
0.00000000
0.00000000
-2.43840000
663025.17200414
5124853.23361490
