2.43840000
0.00000000
0.00000000
-2.43840000
624485.20103133
5123876.27641441
