2.43840000
0.00000000
0.00000000
-2.43840000
643426.64904003
5138221.96076619
