2.43840000
0.00000000
0.00000000
-2.43840000
643098.90730688
5152109.79916166
