2.43840000
0.00000000
0.00000000
-2.43840000
585354.74851520
5164812.33685118
