2.43840000
0.00000000
0.00000000
-2.43840000
477099.41790777
4150932.56325153
