2.43840000
0.00000000
0.00000000
-2.43840000
400108.32496222
4193110.75492324
