2.438400000000
0.000000000000
0.000000000000
-2.438400000000
543058.408384347680
4220432.209089392800
