2.438400000000
0.000000000000
0.000000000000
-2.438400000000
477283.001052463602
4220279.842703452334
