2.438400000000
0.000000000000
0.000000000000
-2.438400000000
477321.824439753254
4234148.036020873114
