2.438400000000
0.000000000000
0.000000000000
-2.438400000000
477547.408324129938
4317372.125215963461
