2.438400
0.000000
0.000000
-2.438400
390573.277620
4318237.833251
