2.43840000
0.00000000
0.00000000
-2.43840000
682266.98084414
4361381.85020457
