2.43840000
0.00000000
0.00000000
-2.43840000
639452.40956556
4346547.85488828
