2.43840000
0.00000000
0.00000000
-2.43840000
531596.13186016
4345198.18732702
