2.43840000
0.00000000
0.00000000
-2.43840000
531247.41533143
4428434.69420975
