2.438400000000
0.000000000000
0.000000000000
-2.438400000000
477623.153309834250
4345106.545834180000
