2.438400
0.000000
0.000000
-2.438400
498927.007630
4622620.437813
