2.438400000000
0.000000000000
0.000000000000
-2.438400000000
478136.512726180780
4580968.451770608300
