2.438400000000
0.000000000000
0.000000000000
-2.438400000000
332429.948310340813
4624683.441033356823
