2.438400000000
0.000000000000
0.000000000000
-2.438400000000
248608.317058935499
4613228.809190209950
