2.438400000000
0.000000000000
0.000000000000
-2.438400000000
312317.058560337929
4652956.260345316490
