2.438400000000
0.000000000000
0.000000000000
-2.438400000000
676091.009381952579
4611315.261272908188
